BEGIN:VCALENDAR
VERSION:2.0
PRODID:-//Vysoce Citliví Lidé - ECPv6.15.15//NONSGML v1.0//EN
CALSCALE:GREGORIAN
METHOD:PUBLISH
X-ORIGINAL-URL:https://vysocecitlivi.cz
X-WR-CALDESC:Akce na Vysoce Citliví Lidé
REFRESH-INTERVAL;VALUE=DURATION:PT1H
X-Robots-Tag:noindex
X-PUBLISHED-TTL:PT1H
BEGIN:VTIMEZONE
TZID:Europe/Prague
BEGIN:DAYLIGHT
TZOFFSETFROM:+0100
TZOFFSETTO:+0200
TZNAME:CEST
DTSTART:20250330T010000
END:DAYLIGHT
BEGIN:STANDARD
TZOFFSETFROM:+0200
TZOFFSETTO:+0100
TZNAME:CET
DTSTART:20251026T010000
END:STANDARD
BEGIN:DAYLIGHT
TZOFFSETFROM:+0100
TZOFFSETTO:+0200
TZNAME:CEST
DTSTART:20260329T010000
END:DAYLIGHT
BEGIN:STANDARD
TZOFFSETFROM:+0200
TZOFFSETTO:+0100
TZNAME:CET
DTSTART:20261025T010000
END:STANDARD
BEGIN:DAYLIGHT
TZOFFSETFROM:+0100
TZOFFSETTO:+0200
TZNAME:CEST
DTSTART:20270328T010000
END:DAYLIGHT
BEGIN:STANDARD
TZOFFSETFROM:+0200
TZOFFSETTO:+0100
TZNAME:CET
DTSTART:20271031T010000
END:STANDARD
END:VTIMEZONE
BEGIN:VEVENT
DTSTART;TZID=Europe/Prague:20260422T180000
DTEND;TZID=Europe/Prague:20260422T193000
DTSTAMP:20260425T151713
CREATED:20260412T123216Z
LAST-MODIFIED:20260414T173942Z
UID:1151-1776880800-1776886200@vysocecitlivi.cz
SUMMARY:Dubnové online setkání
DESCRIPTION:Setkání pro vysoce citlivé\, které nabízí bezpečný prostor pro klidné povídání\, sdílení\, malé vhledy a drobnou podporu bez tlaku na výkon a bez nutnosti zapojení. \nDobrovolné vstupné \nJak setkání probíhá? \nSetkání má volnější strukturu\, ale základní rámec je předem jasný: \n\nKrátké přivítání a úvodní naladění\nOtevření prostoru pro témata\, která právě řešíme\nDobrovolné sdílení účastníků\nVolná diskuse\, která se může organicky vyvíjet podle toho\, co přineseme\nKrátké závěrečné uzemnění a rozloučení\n\nZapojení je zcela dobrovolné — můžeme mluvit\, naslouchat nebo jen tiše být s ostatními. Dbám na bezpečí\, komfort i zahlcení účastníků – snažím se\, aby setkání probíhalo v co největším klidu. Celková délka: cca 60 – 90 minut. \nCo není součástí  \nAby nedocházelo k falešným očekáváním\, setkání není: \n\nterapií ani krizovou intervencí koučinkem 1:1 místem pro podrobnou analýzu osobních diagnóz\nprostorem pro sdílení kompletních životních příběhů\n„diagnostikou“ vysoké citlivosti\n\nJde o neformální komunitní setkání. \nPro koho je setkání vhodné \nPro všechny\, kdo: \n\njsou vysoce citliví nebo vysokou citlivost u sebe zkoumají\nchtějí sdílet své zkušenosti v bezpečném prostoru\nocení klidné tempo a jemnou atmosféru\ntouží po validaci\, že v tom nejsme sami\n\nPodmínky k pohodlí\n\nexistuje možnost anonymního sdílení\, otázek či nadhození témat předem (veškeré info bude v e-mailu)\nje v pořádku mít kameru vypnutou\nje v pořádku nemluvit a jen být s námi\nnikdo není vyvoláván ani nucen sdílet (nejsme ve škole)\npokud se přestimulujeme\, je naprosto v pořádku si na chvíli vypnout mikrofon / odejít / protáhnout se\nžádné párové ani skupinové úkoly\natmosféra jemného\, ohleduplného prostředí\n\nTechnické informace \n\nDatum a čas: 22. 4.\, 18.00 – 19.30\nDélka: cca 60 – 90 minut\nPlatforma: Google Meet\nKamera ani mikrofon nejsou povinné\nZáznam nebude pořizován! (jde o citlivé a komunitní téma)\nOdkaz k připojení přijde automaticky e-mailem po zakoupení vstupenky (při nákupu převodem prosím počítejte s prodlevou)\n\nJak bude vypadat skupinová dynamika    \n\nskupina bude menší (cca 10 lidí\, maximum je 15)\nsdílení je zcela dobrovolné\nemoce jsou vítané — i slzy jsou v bezpečí\nplatí pravidlo mlčenlivosti: co zde zazní\, zůstává zde\nnedáváme si nevyžádané rady ani nehodnotíme příběhy ostatních\ncílem je atmosféra bezpečí\, jemnosti a respektu\n\nSetkání vedu jako člověk\, který má s vysokou citlivostí osobní i profesní zkušenost. Dlouhodobě se vzdělávám v oblasti vysoce citlivých lidí\, věnuju se tvorbě podpůrného obsahu a studiu psychologických souvislostí. Vedu setkání jemně\, citlivě a s respektem k hranicím každého z nás. Vrácení peněz je na individuální domluvě\, nejpozději však do 48 hodin předem\, aby mohli být oslovení náhradníci. Vrácení peněz po skončení setkání není možné.
URL:https://vysocecitlivi.cz/akce/dubnove-online-setkani/
LOCATION:Online
CATEGORIES:Setkání
ATTACH;FMTTYPE=image/png:https://vysocecitlivi.cz/wp-content/uploads/2026/04/duben-setkani.png
END:VEVENT
END:VCALENDAR