BEGIN:VCALENDAR
VERSION:2.0
PRODID:-//Vysoce Citliví Lidé - ECPv6.15.15//NONSGML v1.0//EN
CALSCALE:GREGORIAN
METHOD:PUBLISH
X-ORIGINAL-URL:https://vysocecitlivi.cz
X-WR-CALDESC:Akce na Vysoce Citliví Lidé
REFRESH-INTERVAL;VALUE=DURATION:PT1H
X-Robots-Tag:noindex
X-PUBLISHED-TTL:PT1H
BEGIN:VTIMEZONE
TZID:Europe/Prague
BEGIN:DAYLIGHT
TZOFFSETFROM:+0100
TZOFFSETTO:+0200
TZNAME:CEST
DTSTART:20250330T010000
END:DAYLIGHT
BEGIN:STANDARD
TZOFFSETFROM:+0200
TZOFFSETTO:+0100
TZNAME:CET
DTSTART:20251026T010000
END:STANDARD
BEGIN:DAYLIGHT
TZOFFSETFROM:+0100
TZOFFSETTO:+0200
TZNAME:CEST
DTSTART:20260329T010000
END:DAYLIGHT
BEGIN:STANDARD
TZOFFSETFROM:+0200
TZOFFSETTO:+0100
TZNAME:CET
DTSTART:20261025T010000
END:STANDARD
BEGIN:DAYLIGHT
TZOFFSETFROM:+0100
TZOFFSETTO:+0200
TZNAME:CEST
DTSTART:20270328T010000
END:DAYLIGHT
BEGIN:STANDARD
TZOFFSETFROM:+0200
TZOFFSETTO:+0100
TZNAME:CET
DTSTART:20271031T010000
END:STANDARD
END:VTIMEZONE
BEGIN:VEVENT
DTSTART;TZID=Europe/Prague:20260307T100000
DTEND;TZID=Europe/Prague:20260307T113000
DTSTAMP:20260424T203009
CREATED:20260225T135822Z
LAST-MODIFIED:20260225T140639Z
UID:1045-1772877600-1772883000@vysocecitlivi.cz
SUMMARY:Workshop: Když je těžké říct\, co potřebujeme
DESCRIPTION:Workshop o hranicích\, potřebách a komunikaci u vysoce citlivých  \nVstupenka \nJak setkání probíhá? \nNechceme být nepříjemní\, nechceme nikoho zklamat\, nechceme vyvolat konflikt… a i když podnikneme pokus něco říct\, slova nám zůstanou v krku. A i když vyjdou ven\, ostatní jako by je neslyšeli. \nA tak raději mlčíme\, přizpůsobujeme se\, kývneme\, i když už nemůžeme. Naše potřeby zůstávají někde na posledním místě. \nTento workshop je věnovaný právě těmto situacím. Podíváme se na to… \n\nproč je pro vysoce citlivé lidi často tak těžké mluvit o svých potřebách\,\nco to má společného s hranicemi \na jak můžeme začít komunikovat o něco klidněji a s větším respektem k sobě.\n\nWorkshop je dobrovolně interaktivní – vytvoříme bezpečný prostor pro reflexi. Můžete sdílet své zkušenosti v chatu\, nebo jen v tichosti pracovat sami se sebou. \nCo nás čeká?  \n\nProč je to tak těžké – Podíváme se na to\, proč mají vysoce citliví lidé často problém mluvit o svých potřebách a kde se bere strach z konfliktu\, odmítnutí nebo pocitu viny.\nCo jsou a co nejsou hranice – Ujasníme si časté mýty o hranicích a ukážeme si\, jak hranice ve skutečnosti fungují ve zdravých vztazích.\nCo se v nás děje\, když máme něco říct – Prozkoumáme vnitřní konflikty\, které se objevují ve chvíli\, kdy chceme mluvit o svých potřebách\, například mezi touhou po klidu a strachem z reakce druhých.\nMoje potřeby v konkrétní situaci – Krátké vedené cvičení\, ve kterém si každý může sám pro sebe pojmenovat jednu situaci\, kde by potřeboval něco říct. Jak mluvit o potřebách realističtěji\nUkážeme si jednoduché principy komunikace hranic\, které jsou jemné\, respektující a použitelné v běžném životě.\n\nKdy a kde? \n📅 7. 3. v 10.00\n🕒 Délka: cca 90 minut (poté prostor na dotazy)\n📍 Kde: online (Google Meet)\n🎥 Záznam: všichni přihlášení obdrží záznam do 3 dnů od konání \nVarianta balíčku: workshop + Komunikační mapa \nPokud chcete jít v tématu komunikace a hranic ještě víc do hloubky\, můžete si vybrat zvýhodněnou variantu balíčku\, která kromě workshopu obsahuje i digitální produkt Komunikační mapa. Tento 160stránkový interaktivní e-book vás krok za krokem provede procesem sdílení vaší citlivosti a hranic – od prvního uvědomění\, přes hledání vlastních slov až po zvládání náročných reakcí druhých. \nBalíček je vhodný pro ty\, kteří: \n\nchtějí po workshopu pokračovat ve vlastním tempu\,\npotřebují konkrétní věty a strukturu\,\nchtějí se k tématu hranic a komunikace opakovaně vracet.\n\nPro koho je workshop vhodný  \n\nPro vysoce citlivé lidi\, kterým dělá potíže mluvit o svých potřebách\nPro ty\, kteří často říkají „ano“\, i když by raději řekli „ne“\nPro každého\, kdo se bojí konfliktu nebo reakce druhých\nPro ty\, kteří chtějí začít s hranicemi jemně a realisticky\n\nCena je nastavena tak\, aby byl workshop dostupný co nejvíce lidem. Maximální počet míst je ale omezen. Děkuju za pochopení. \nTěším se na vás. 💛
URL:https://vysocecitlivi.cz/akce/workshop-kdyz-je-tezke-rict-co-potrebujeme/
CATEGORIES:Webináře
ATTACH;FMTTYPE=image/png:https://vysocecitlivi.cz/wp-content/uploads/2026/02/workshophran.png
END:VEVENT
BEGIN:VEVENT
DTSTART;TZID=Europe/Prague:20260314T100000
DTEND;TZID=Europe/Prague:20260314T113000
DTSTAMP:20260424T203009
CREATED:20260225T140555Z
LAST-MODIFIED:20260225T140555Z
UID:1047-1773482400-1773487800@vysocecitlivi.cz
SUMMARY:Březnové online setkání
DESCRIPTION:Setkání pro vysoce citlivé\, které nabízí bezpečný prostor pro klidné povídání\, sdílení\, malé vhledy a drobnou podporu bez tlaku na výkon a bez nutnosti zapojení. \nVstupenka \nJak setkání probíhá? \nSetkání má volnější strukturu\, ale základní rámec je předem jasný: \n\nKrátké přivítání a úvodní naladění\nOtevření prostoru pro témata\, která právě řešíme\nDobrovolné sdílení účastníků\nVolná diskuse\, která se může organicky vyvíjet podle toho\, co přineseme\nKrátké závěrečné uzemnění a rozloučení\n\nZapojení je zcela dobrovolné — můžeme mluvit\, naslouchat nebo jen tiše být s ostatními.\nDbám na bezpečí\, komfort i zahlcení účastníků – snažím se\, aby setkání probíhalo v co největším klidu. \nCelková délka: cca 60 – 90 minut. \nCo není součástí  \nAby nedocházelo k falešným očekáváním\, setkání není: \n\nterapií ani krizovou intervencí koučinkem 1:1 místem pro podrobnou analýzu osobních diagnóz\nprostorem pro sdílení kompletních životních příběhů\n„diagnostikou“ vysoké citlivosti\n\nJde o neformální komunitní setkání. \nPro koho je setkání vhodné \nPro všechny\, kdo: \n\njsou vysoce citliví nebo vysokou citlivost u sebe zkoumají\nchtějí sdílet své zkušenosti v bezpečném prostoru\nocení klidné tempo a jemnou atmosféru\ntouží po validaci\, že v tom nejsme sami\n\nPodmínky k pohodlí\n\nexistuje možnost anonymního sdílení\, otázek či nadhození témat předem (veškeré info bude v e-mailu)\nje v pořádku mít kameru vypnutou\nje v pořádku nemluvit a jen být s námi\nnikdo není vyvoláván ani nucen sdílet (nejsme ve škole)\npokud se přestimulujeme\, je naprosto v pořádku si na chvíli vypnout mikrofon / odejít / protáhnout se\nžádné párové ani skupinové úkoly\natmosféra jemného\, ohleduplného prostředí\n\nTechnické informace \n\nDatum a čas: 10. 2.\, 18.00 – 19.30\nDélka: cca 60 – 90 minut\nPlatforma: Google Meet\nKamera ani mikrofon nejsou povinné\nZáznam nebude pořizován! (jde o citlivé a komunitní téma)\nOdkaz k připojení přijde automaticky e-mailem po zakoupení vstupenky (při nákupu převodem prosím počítejte s prodlevou)\n\nJak bude vypadat skupinová dynamika    \n\nskupina bude menší (cca 20 lidí)\nsdílení je zcela dobrovolné\nemoce jsou vítané — i slzy jsou v bezpečí\nplatí pravidlo mlčenlivosti: co zde zazní\, zůstává zde\nnedáváme si nevyžádané rady ani nehodnotíme příběhy ostatních\ncílem je atmosféra bezpečí\, jemnosti a respektu\n\nSetkání vedu jako člověk\, který má s vysokou citlivostí osobní i profesní zkušenost. Dlouhodobě se vzdělávám v oblasti vysoce citlivých lidí\, věnuju se tvorbě podpůrného obsahu a studiu psychologických souvislostí. Vedu setkání jemně\, citlivě a s respektem k hranicím každého z nás. \nVrácení peněz je na individuální domluvě\, nejpozději však do 48 hodin předem\, aby mohli být oslovení náhradníci. Vrácení peněz po skončení setkání není možné.
URL:https://vysocecitlivi.cz/akce/breznove-online-setkani/
CATEGORIES:Setkání
ATTACH;FMTTYPE=image/png:https://vysocecitlivi.cz/wp-content/uploads/2026/02/breznove-setkani.png
END:VEVENT
END:VCALENDAR